BEGIN:VCALENDAR
VERSION:2.0
PRODID:-//wp-events-plugin.com//7.2.3.1//EN
TZID:Europe/Amsterdam
X-WR-TIMEZONE:Europe/Amsterdam
BEGIN:VEVENT
UID:74@no-mad.nl
DTSTART;TZID=Europe/Amsterdam:20220422T000000
DTEND;TZID=Europe/Amsterdam:20220424T000000
DTSTAMP:20220323T202548Z
URL:https://no-mad.nl/evenementen/treffen-zelfbouwers-van-kampeerwagens-en
 -geinteresseerden/
SUMMARY:Treffen zelfbouwers van kampeerwagens en geïnteresseerden
DESCRIPTION:Tijdens het weekend van vrijdag 22 april 2022 tot zondag 24 apr
 il 2022 tonen handige zelfbouwers hun kampeerwagen aan geïnteresseerden e
 n kandidaat-zelfbouwers. Bezoekers kunnen vrij de aanwezige wagens bezoeke
 n en praktisch advies vragen. Plaats van het treffen: Don Bosco -Lennikses
 teenweg 2 - 1500 Halle.\n\nGroot\, klein\, luxueus\, basic\, ombouwbaar\, 
 ... volop inspiratie voor wie overweegt om van zijn wagen een zwerfwagen t
 e maken\, al dan niet tijdelijk. Of een kans voor de nieuwsgierigen om een
 s binnen te kijken en verrast te worden door zo veel creativiteit.\n\nHeel
  wat technieken om een zwerfwagen ‘off grid’ te kunnen gebruiken komen
  aan bod zoals extra batterij als leefbatterij\, zonnepanelen om stroom te
  leveren\, verwarming op gas/diesel\, koken op gas/diesel/elektrisch\, koe
 lkast op gas/12 Volt\, schrijnwerkerij op maat\, rekening houdend met bepe
 rkt toegelaten gewicht\, sanitair en warm water. Toilet : cassette- of com
 posttoilet of alternatief\,...\n\nHet treffen bezoeken is gratis. Er is ge
 en enkel commercieel opzet bij dit treffen.\n\nOvernachten  in je camper o
 p vrijdag 22 of zaterdag 23 april 2022?\n\nSchrijf in via deze link: https
 ://forms.gle/h8mHtkBLWcFBAGT3A\n\nMeer info: gerda.hanssens@gmail.com
CATEGORIES:Camper Thema Bijeenkomst,Camper Treffen
LOCATION:Don Bosco\, Lenniksesteenweg 2 \, Halle\, 1500 \, België
X-APPLE-STRUCTURED-LOCATION;VALUE=URI;X-ADDRESS=Lenniksesteenweg 2 \, Halle
 \, 1500 \, België;X-APPLE-RADIUS=100;X-TITLE=Don Bosco:geo:0,0
END:VEVENT
BEGIN:VTIMEZONE
TZID:Europe/Amsterdam
X-LIC-LOCATION:Europe/Amsterdam
BEGIN:DAYLIGHT
DTSTART:20220327T030000
TZOFFSETFROM:+0100
TZOFFSETTO:+0200
TZNAME:CEST
END:DAYLIGHT
END:VTIMEZONE
END:VCALENDAR