BEGIN:VCALENDAR
VERSION:2.0
PRODID:-//wp-events-plugin.com//7.2.3.1//EN
TZID:Europe/Amsterdam
X-WR-TIMEZONE:Europe/Amsterdam
BEGIN:VEVENT
UID:19@no-mad.nl
DTSTART;TZID=Europe/Amsterdam:20200602T000000
DTEND;TZID=Europe/Amsterdam:20200618T000000
DTSTAMP:20191127T164246Z
URL:https://no-mad.nl/evenementen/rondreis-zweden/
SUMMARY:Rondreis Zweden
DESCRIPTION:Georganiseerd door Camper Club Nederland\nStatus: Vol\nSluiting
 sdatum: zondag 1 maart 2020\nFietsen: ja\n\nEvenement doorgeven? https://w
 ww.no-mad.nl/formulier-evenement-doorgeven/
CATEGORIES:Camperreis
LOCATION:Camper Club Nederland\, Postbus 115\, Haaksbergen\, Overijssel\, 7
 480 AC\, Nederland
X-APPLE-STRUCTURED-LOCATION;VALUE=URI;X-ADDRESS=Postbus 115\, Haaksbergen\,
  Overijssel\, 7480 AC\, Nederland;X-APPLE-RADIUS=100;X-TITLE=Camper Club N
 ederland:geo:0,0
END:VEVENT
BEGIN:VTIMEZONE
TZID:Europe/Amsterdam
X-LIC-LOCATION:Europe/Amsterdam
BEGIN:DAYLIGHT
DTSTART:20200329T030000
TZOFFSETFROM:+0100
TZOFFSETTO:+0200
TZNAME:CEST
END:DAYLIGHT
END:VTIMEZONE
END:VCALENDAR