BEGIN:VCALENDAR
VERSION:2.0
PRODID:-//wp-events-plugin.com//7.2.3.1//EN
TZID:Europe/Amsterdam
X-WR-TIMEZONE:Europe/Amsterdam
BEGIN:VEVENT
UID:136@no-mad.nl
DTSTART;TZID=Europe/Amsterdam:20250426T000000
DTEND;TZID=Europe/Amsterdam:20250426T000000
DTSTAMP:20250407T183301Z
URL:https://no-mad.nl/evenementen/motorhomesalon-gent-2025/
SUMMARY:Motorhomesalon Gent 2025
DESCRIPTION:Ontdek op het Motorhomesalon Gent\, tweedehands en stock motorh
 omes tegen verleidelijke prijzen met garantie! Of je nu op zoek bent naar 
 meer comfort tijdens je camperreizen\, met de beste stoelen\, een luifel\,
  ecologische toiletproducten\, en de wens om jouw motorhome te laten schit
 teren\, of als je overweegt deze uit te rusten met zonnepanelen en batteri
 jen voor energiezuinig en zelfstandig reizen\, bezoek dan zeker de diverse
  accessoirebedrijven op de beurs. Voor een motorhome die volledig is afges
 temd op jouw wensen\, staan er exposanten klaar die gespecialiseerd zijn i
 n camperbouw. Vergeet ook niet informatie in te winnen over de beste verze
 kering\, zodat je zorgeloos op reis kunt vertrekken.
ATTACH;FMTTYPE=image/jpeg:https://no-mad.nl/wp-content/uploads/2025/04/MOT
 ORHOMESALON-LOGO-WIT-TRANSPARANT-png.avif
CATEGORIES:Camperbeurs
LOCATION:Flanders Expo\, Maaltekouter 1\, Gent\, 9051\, België
X-APPLE-STRUCTURED-LOCATION;VALUE=URI;X-ADDRESS=Maaltekouter 1\, Gent\, 905
 1\, België;X-APPLE-RADIUS=100;X-TITLE=Flanders Expo:geo:0,0
END:VEVENT
BEGIN:VTIMEZONE
TZID:Europe/Amsterdam
X-LIC-LOCATION:Europe/Amsterdam
BEGIN:DAYLIGHT
DTSTART:20250330T030000
TZOFFSETFROM:+0100
TZOFFSETTO:+0200
TZNAME:CEST
END:DAYLIGHT
END:VTIMEZONE
END:VCALENDAR