BEGIN:VCALENDAR
VERSION:2.0
PRODID:-//wp-events-plugin.com//7.2.3.1//EN
TZID:Europe/Amsterdam
X-WR-TIMEZONE:Europe/Amsterdam
BEGIN:VEVENT
UID:95@no-mad.nl
DTSTART;TZID=Europe/Amsterdam:20221020T000000
DTEND;TZID=Europe/Amsterdam:20221024T000000
DTSTAMP:20221017T164053Z
URL:https://no-mad.nl/evenementen/mobicar-caravan-motorhome-expo-2022/
SUMMARY:Mobicar Caravan & Motorhome Expo 2022
DESCRIPTION:
CATEGORIES:Kampeerbeurs
LOCATION:Brussels Expo\, Paleis 6\, 7\, 9 en 11 + patio Belgiëplein 1 \, B
 russel\, 1020\, België
X-APPLE-STRUCTURED-LOCATION;VALUE=URI;X-ADDRESS=Paleis 6\, 7\, 9 en 11 + pa
 tio Belgiëplein 1 \, Brussel\, 1020\, België;X-APPLE-RADIUS=100;X-TITLE=
 Brussels Expo:geo:0,0
END:VEVENT
BEGIN:VTIMEZONE
TZID:Europe/Amsterdam
X-LIC-LOCATION:Europe/Amsterdam
BEGIN:DAYLIGHT
DTSTART:20220327T030000
TZOFFSETFROM:+0100
TZOFFSETTO:+0200
TZNAME:CEST
END:DAYLIGHT
END:VTIMEZONE
END:VCALENDAR