BEGIN:VCALENDAR
VERSION:2.0
PRODID:-//wp-events-plugin.com//7.2.3.1//EN
TZID:Europe/Amsterdam
X-WR-TIMEZONE:Europe/Amsterdam
BEGIN:VEVENT
UID:100@no-mad.nl
DTSTART;TZID=Europe/Amsterdam:20230608T000000
DTEND;TZID=Europe/Amsterdam:20230611T000000
DTSTAMP:20230107T230202Z
URL:https://no-mad.nl/evenementen/mananamanana/
SUMMARY:MañanaMañana
DESCRIPTION:Een vier dagen durend geestverruimend feest ver weg van de grij
 ze massa\nWil je dansen\, dwalen\, drinken\, lachen\, ontdekken en geniete
 n van muziek\, theater\, natuur\, nachtelijke afterparty’s en een groot 
 kampvuur? Houd je van een gekke paradox tussen ‘veel te doen’ enerzijd
 s en totale ongedwongenheid anderzijds? Mooi! Dat is onze way of life. Tre
 k je stoute schoenen aan en kom naar dit vier dagen durend geestverruimend
  festival met camping\, waar duizenden nieuwsgierige levensgenieters van h
 einde en verre zich verzamelen.\n\nMuzikaal en theatraal geweld op zeven p
 odia\n\n\n\nMañana Mañana is een geestverruimd festival ver weg van de g
 rijze massa. Met een prachtig festivalterrein bestaande uit bos\, water en
  grasland. Door de wol geverfde legends\, aanstormend talent en bezoekers 
 staan vanaf de ochtend tot diep in de nacht op de zeven podia. Bijna elk g
 enre is aanwezig: van surf\, comedy\, punk\, mongoolse keelzang\, blues\, 
 acrobatiek\, singer-songwriter\, poëzie tot latin. Hier ontdek je de kren
 ten uit de pap van de (inter)nationale muziekscene. Live\, ongepolijst voo
 r je neus.\n\n\n\nDoorbreek de ketenen van de tegenwoordige tijd\n\n\n\nBe
 vrijd jezelf op Mañana Mañana van de hokjesgeest\, zien en gezien worden
 \, drukte in je hoofd\, verplicht stilzitten\, verplicht dansen\, je eigen
  ego\, het ego van een ander\, stadse fratsen\, drukdoenerij\, een verkeer
 sinfarct\, dwangmatig appen\, volle agenda’s\, social media en meer van 
 dat geouwehoer. Mañana Mañana is de plek waar je de ketenen van de tegen
 woordige tijd kunt doorbreken.\n\nCamping\n\n\n\nWil jij vier dagen ronddw
 alen op een festival zonder kaders? Take the trip naar ons idyllische bos\
 , laat je betoveren en keer vol energie\, opgeladen en met een berg herinn
 eringen huiswaarts. Het enige wat geldt is: fiësta like there’s no mañ
 ana!\nMag ik met mijn caravan\, kampeerbusje\, vouwwagen komen?\n\n\nJazek
 er\, je bent van harte welkom. Met een camper-/caravankaart (incl. toegang
  voor één persoon tot het festivalterrein) ben je van harte welkom met j
 e slaapplek op wielen. Het voertuig moet RDW-gekeurd zijn als camper/carav
 an. Het camper/caravan-gedeelte staat\, wegens veiligheidsredenen\, wel we
 derom gescheiden van de tentencamping. LET OP: Zorg ervoor dat er geen gas
 flessen aanwezig zijn in je camper of caravan\, want deze mogen wegens vei
 ligheidsredenen niet het terrein op.\n\nCheck alle regels in onze voorwaar
 den.\n\n\n\nAdres voor campingbezoekers: Inrit P-camping\, ter hoogte van 
 Deventerweg 83T\, 7245 PL Laren (Gld.)\n\n\n
ATTACH;FMTTYPE=image/jpeg:https://no-mad.nl/wp-content/uploads/2023/01/ima
 ges.png
CATEGORIES:Festival metcamper mogelijkheid
LOCATION:Kasteel Oolde\, Ooldselaan 17\, Laren\, Gelderland\, Nederland
X-APPLE-STRUCTURED-LOCATION;VALUE=URI;X-ADDRESS=Ooldselaan 17\, Laren\, Gel
 derland\, Nederland;X-APPLE-RADIUS=100;X-TITLE=Kasteel Oolde:geo:0,0
END:VEVENT
BEGIN:VTIMEZONE
TZID:Europe/Amsterdam
X-LIC-LOCATION:Europe/Amsterdam
BEGIN:DAYLIGHT
DTSTART:20230326T030000
TZOFFSETFROM:+0100
TZOFFSETTO:+0200
TZNAME:CEST
END:DAYLIGHT
END:VTIMEZONE
END:VCALENDAR