BEGIN:VCALENDAR
VERSION:2.0
PRODID:-//wp-events-plugin.com//7.2.3.1//EN
TZID:Europe/Amsterdam
X-WR-TIMEZONE:Europe/Amsterdam
BEGIN:VEVENT
UID:114@no-mad.nl
DTSTART;TZID=Europe/Amsterdam:20240124T100000
DTEND;TZID=Europe/Amsterdam:20240128T170000
DTSTAMP:20230723T213006Z
URL:https://no-mad.nl/evenementen/caravana-2024/
SUMMARY:Caravana 2024
DESCRIPTION:Caravana 2024 pakt uit met veelzijdig kampeeraanbod\n\nKampere
 n is populairder dan ooit! Steeds meer mensen ontdekken de ultieme vrijhei
 d van reizen met de camper\, het comfort van een eigen caravan of het avon
 tuur van een trektocht met een (dak)tent. Wat jouw ideale kampeervakantie 
 ook is\, op Caravana 2014 kom je gegarandeerd in de vakantiestemming!\n\nV
 ijf dagen lang vind je op de Caravana 2024 in het WTC Expo in Leeuwarden a
 lles wat je nodig hebt voor jouw ideale kampeervakantie. Exposanten presen
 teren er een breed aanbod in caravans en campers\, vouwwagens\, (voor)tent
 en\, kampeeraccessoires en campings uit heel Europa. Tijdens een heerlijk 
 dagje uit voor het hele gezin doe je inspiratie op en vind je de nieuwste 
 technieken en trends op kampeergebied. Sluit aan bij één van de vele dem
 onstraties of interessante workshops en je bent helemaal klaar voor je vol
 gende kampeertrip!\n\nVan 24 t/m 28 januari 2024 vind je op Caravana 2024 
 alles wat je nodig hebt om van jouw kampeervakantie een topvakantie te mak
 en.\n\nhttps://caravana.eu/tickets\n\nFriesland Camperservice geeft 2 vrij
 kaarten cadeau voor de beurs Caravana in Leeuwarden.\n\nU kunt zich vanaf 
 kwartaal 4\, 2023 aanmelden voor de vrijkaarten. Vrijdag 19 januari worden
  de winnaars bekend gemaakt. En krijgt de winnaar hier persoonlijk bericht
  over.\n\n&nbsp\;
ATTACH;FMTTYPE=image/jpeg:https://no-mad.nl/wp-content/uploads/2022/03/car
 avana-1.jpg
CATEGORIES:Kampeerbeurs
LOCATION:WTC Expo\, Heliconweg 52\, Leeuwarden\, Friesland\, 8914 AT\, Nede
 rland
X-APPLE-STRUCTURED-LOCATION;VALUE=URI;X-ADDRESS=Heliconweg 52\, Leeuwarden\
 , Friesland\, 8914 AT\, Nederland;X-APPLE-RADIUS=100;X-TITLE=WTC Expo:geo:
 0,0
END:VEVENT
BEGIN:VTIMEZONE
TZID:Europe/Amsterdam
X-LIC-LOCATION:Europe/Amsterdam
BEGIN:STANDARD
DTSTART:20231029T020000
TZOFFSETFROM:+0200
TZOFFSETTO:+0100
TZNAME:CET
END:STANDARD
END:VTIMEZONE
END:VCALENDAR