BEGIN:VCALENDAR
VERSION:2.0
PRODID:-//wp-events-plugin.com//7.2.3.1//EN
TZID:Europe/Amsterdam
X-WR-TIMEZONE:Europe/Amsterdam
BEGIN:VEVENT
UID:69@no-mad.nl
DTSTART;TZID=Europe/Amsterdam:20220923T100000
DTEND;TZID=Europe/Amsterdam:20220925T170000
DTSTAMP:20220721T091620Z
URL:https://no-mad.nl/evenementen/camperbeurs-hardenberg-2/
SUMMARY:Camperbeurs Hardenberg
DESCRIPTION:De grootste Camperbeurs van Noordoost-Nederland\n\nWat kun je v
 erwachten op Camperbeurs 2022?\nCamperliefhebbers kunnen eindelijk weer hu
 n hart ophalen op een beurs\, want na anderhalf jaar corona-pauze gaat Cam
 perbeurs Hardenberg weer door. Deze grootste camperbeurs van Noordoost-Ned
 erland is te bezoeken op vrijdag 23\, zaterdag 24 en zondag 25 september 2
 022 in Evenementenhal Hardenberg. Meer dan 75 exposanten verdeeld over maa
 r liefst zes beurshallen presenteren de nieuwste én tweedehands campers\,
  mini-campers zoals kleine buscampers\, inbouw voor de camper en de mogeli
 jkheden voor het huren van een camper. Ook allerlei camperaccessoires is h
 ier te koop. Verder is de Nederlandse Kampeerauto Club (NKC) aanwezig om c
 amperliefhebbers te voorzien van tips voor een onbezorgd camperplezier.\n\
 nCamperbeurs Hardenberg groeit door naar 90 exposanten\n\nHARDENBERG – D
 e dertiende editie van Camperbeurs in Evenementenhal Hardenberg is flink i
 n trek bij exposanten. Al 87 exposanten hebben zich verzekerd van een plek
  op de beurs\, daarmee is 95% van de beursvloer volgeboekt. “Wij hebben 
 nu al 10 exposanten meer dan vorig jaar en wij verwachten in de komende tw
 ee maanden nog meer nieuwe deelnemers te verwelkomen. Met name op het gebi
 ed van camperaccessoires hebben we enkele plekken vrij. Deze exposantengro
 ei past ook in de lijn van de laatste jaren waarin onze exposanten- en bez
 oekersaantallen stijgen”\, zegt Marije Pol namens Camperbeurs.\n\nDe kom
 ende editie van Camperbeurs Hardenberg is op vrijdag 23\, zaterdag 24 en z
 ondag 25 september 2022. Naar verwachting presenteren zich hier tussen de 
 90 en 100 exposanten\, verdeeld over zes beurshallen. Er is een aanbod van
  nieuwe en tweedehands campers\, mini-campers zoals kleine buscampers\, in
 bouw voor de camper en de mogelijkheden voor het huren van een camper. Ook
  allerlei camperaccessoires zijn te koop. \n\nNieuwe samenwerkingspartners
  Campertheater\n\nOp Camperbeurs Hardenberg wordt ook het zogeheten Camper
 theater ingericht waar tijdens alle beursdagen verschillende presentaties 
 bij te wonen zijn. Nieuwe namen ten opzichte van andere jaren in dit theat
 er zijn CamperTV en Kampeermeneer.nl. 
ATTACH;FMTTYPE=image/jpeg:https://no-mad.nl/wp-content/uploads/2022/02/Cam
 perbeurs_logo.png
CATEGORIES:Camperbeurs
LOCATION:Evenementenhal\, Energieweg 2\, Hardenberg\, Overijssel\, 7772 TV\
 , Nederland
X-APPLE-STRUCTURED-LOCATION;VALUE=URI;X-ADDRESS=Energieweg 2\, Hardenberg\,
  Overijssel\, 7772 TV\, Nederland;X-APPLE-RADIUS=100;X-TITLE=Evenementenha
 l:geo:0,0
END:VEVENT
BEGIN:VTIMEZONE
TZID:Europe/Amsterdam
X-LIC-LOCATION:Europe/Amsterdam
BEGIN:DAYLIGHT
DTSTART:20220327T030000
TZOFFSETFROM:+0100
TZOFFSETTO:+0200
TZNAME:CEST
END:DAYLIGHT
END:VTIMEZONE
END:VCALENDAR