BEGIN:VCALENDAR
VERSION:2.0
PRODID:-//wp-events-plugin.com//7.2.3.1//EN
TZID:Europe/Amsterdam
X-WR-TIMEZONE:Europe/Amsterdam
BEGIN:VEVENT
UID:84@no-mad.nl
DTSTART;TZID=Europe/Amsterdam:20220617T000000
DTEND;TZID=Europe/Amsterdam:20220619T000000
DTSTAMP:20220502T144317Z
URL:https://no-mad.nl/evenementen/camper-zelf-ver-bouw-treffen/
SUMMARY:Camper Zelf (ver) Bouw Treffen
DESCRIPTION:Wij zijn Gertjan en Monique Hendriksen die samen met Alje en Ge
 ke Dijkstra dit jaar op camping "t Standheem in Opende twee weekenden een 
 treffen organiseren. En wel op 10\,11 en 12 juni of 17\,18 en 19 juni 2022
 .\n\nDoelgroep: Zelfbouw Campers\, groot of klein\, oud of nieuw dat maakt
  niet uit.\n\nWat kunt u verwachten? Aankomst is meestal op vrijdag en ver
 trekt weer op zondag. Verder hebben wij geen programma\, alleen op de zate
 rdag ochtend hebben wij een kleine markt\, waar diverse sponsoren staan en
  ook kunt u zelf u overtollige spullen kwijt. En uiteraard is de mogelijkh
 eid om bij elkaar ideeën op te doen en te kijken hoe iemand zijn en of ha
 ar camper heeft gebouwd.\n\nOp de zaterdag avond hebben wij een grote bbq 
 staan\, als u daar gebruik van wilt maken is dat mogelijk wel met eigen vl
 ees maar erbij komen zitten met een pan snert bv ook geen probleem. Maar h
 et doel is gezelligheid\, ontspannen sfeer en lol.\n\nOp https://www.faceb
 ook.com/events/638913417535016 is alles te lezen en kut u evt het formulie
 r invullen en versturen. Let op:het eerste weekend loopt al aardig vol!\n
CATEGORIES:Camper Thema Bijeenkomst,Camper Treffen
LOCATION:Camping 't Strandheem\, Parkweg 2\, Opende\, Groningen\, 9865VP\, 
 Nederland
X-APPLE-STRUCTURED-LOCATION;VALUE=URI;X-ADDRESS=Parkweg 2\, Opende\, Gronin
 gen\, 9865VP\, Nederland;X-APPLE-RADIUS=100;X-TITLE=Camping 't Strandheem:
 geo:0,0
END:VEVENT
BEGIN:VTIMEZONE
TZID:Europe/Amsterdam
X-LIC-LOCATION:Europe/Amsterdam
BEGIN:DAYLIGHT
DTSTART:20220327T030000
TZOFFSETFROM:+0100
TZOFFSETTO:+0200
TZNAME:CEST
END:DAYLIGHT
END:VTIMEZONE
END:VCALENDAR