BEGIN:VCALENDAR
VERSION:2.0
PRODID:-//wp-events-plugin.com//7.2.3.1//EN
TZID:Europe/Amsterdam
X-WR-TIMEZONE:Europe/Amsterdam
BEGIN:VEVENT
UID:43@no-mad.nl
DTSTART;TZID=Europe/Amsterdam:20200515T000000
DTEND;TZID=Europe/Amsterdam:20200517T000000
DTSTAMP:20200216T153834Z
URL:https://no-mad.nl/evenementen/camper-zelf-ver-bouw-treffen-2020/
SUMMARY:Camper Zelf (ver) Bouw Treffen 2020
DESCRIPTION:Voor een overnachting betaalt u 15\,00 euro per nacht per campe
 r incl. stroom en de waarde die op de sleutel wordt gezet voor de douche e
 n of warm water.\n\nMogelijkheid voor lozen van vuil water en of chemische
  toilet. Wij krijgen een sleutel voor de slagboom en\nmet deze sleutel kan
  er ook gebruik worden gebruikt van de douche en evt wasmachine / wasdroge
 r. ( punten / tikken staan op de sleutel )\n\nWilt u bij dit treffen aanwe
 zig zijn dat kan door middel van een prive berichtje of via een email deze
  kunt u sturen aan\nmoniquegertjan@hotmail.com\, met daarin uw naam\, woon
 plaats\, hoeveel personen en of er huisdieren mee komen. Plus welke dag u 
 aankomt en weer vertrekt.\n\nOok op dit veld kunnen wij weer 60 campers \,
  dus wilt u erbij zijn wacht niet te lang met opgegeven vol is vol.\nOmdat
  er in de laatste jaren een heleboel leden zijn bijgekomen en wij het even
 ement niet TE groot willen laten worden houden wij de inschrijving op 60 c
 ampers.\n\nVolgeboekt. Wie zich nu nog aanmeldt komt op de reserve lijst. 
 Er zijn namelijk nog een aantal aanmeldingen onder voorbehoud !!
CATEGORIES:Camper Treffen
LOCATION:Recreatieoord In Den Boomgaard\, Lingensteeg 12\, Kapel Avezaath B
 uren\, Gelderland\, 4016 CW\, Nederland
X-APPLE-STRUCTURED-LOCATION;VALUE=URI;X-ADDRESS=Lingensteeg 12\, Kapel Avez
 aath Buren\, Gelderland\, 4016 CW\, Nederland;X-APPLE-RADIUS=100;X-TITLE=R
 ecreatieoord In Den Boomgaard:geo:0,0
END:VEVENT
BEGIN:VTIMEZONE
TZID:Europe/Amsterdam
X-LIC-LOCATION:Europe/Amsterdam
BEGIN:DAYLIGHT
DTSTART:20200329T030000
TZOFFSETFROM:+0100
TZOFFSETTO:+0200
TZNAME:CEST
END:DAYLIGHT
END:VTIMEZONE
END:VCALENDAR