BEGIN:VCALENDAR
VERSION:2.0
PRODID:-//wp-events-plugin.com//7.2.3.1//EN
TZID:Europe/Amsterdam
X-WR-TIMEZONE:Europe/Amsterdam
BEGIN:VEVENT
UID:27@no-mad.nl
DTSTART;TZID=Europe/Amsterdam:20200911T110000
DTEND;TZID=Europe/Amsterdam:20200913T170000
DTSTAMP:20191206T203010Z
URL:https://no-mad.nl/evenementen/camper-caravan-wereld/
SUMMARY:Camper Caravan Wereld
DESCRIPTION:Openingstijden Vrijdag: 13:00-21:00u\n\nMet ruim 150 campers en
  caravans vind je tijdens Camper Caravan Wereld geheid de perfecte camper/
 caravan die bij jou past. Of je nu je huidige camper/caravan wil vervangen
  of juist net bent begonnen met de zoektocht naar die éne geschikte campe
 r/caravan. Hier ontdek je een groot en divers aanbod aan nieuwe én gebrui
 kte campers/caravans voor messcherpe prijzen. Oriënteer je en laat je inf
 ormeren en inspireren op het gebied van campers\, caravans en nog veel mee
 r. Op Camper Caravan Wereld vind je het allemaal onder één dak!
CATEGORIES:Kampeerbeurs
LOCATION:Expo Assen\, De Haar 11\, Assen\, Drenthe\, 9405 TE\, Nederland
X-APPLE-STRUCTURED-LOCATION;VALUE=URI;X-ADDRESS=De Haar 11\, Assen\, Drenth
 e\, 9405 TE\, Nederland;X-APPLE-RADIUS=100;X-TITLE=Expo Assen:geo:0,0
END:VEVENT
BEGIN:VTIMEZONE
TZID:Europe/Amsterdam
X-LIC-LOCATION:Europe/Amsterdam
BEGIN:DAYLIGHT
DTSTART:20200329T030000
TZOFFSETFROM:+0100
TZOFFSETTO:+0200
TZNAME:CEST
END:DAYLIGHT
END:VTIMEZONE
END:VCALENDAR